BEGIN:VCALENDAR
VERSION:2.0
PRODID:-//The Mountain Church - ECPv6.15.18//NONSGML v1.0//EN
CALSCALE:GREGORIAN
METHOD:PUBLISH
X-WR-CALNAME:The Mountain Church
X-ORIGINAL-URL:https://mtn.vegas
X-WR-CALDESC:Events for The Mountain Church
REFRESH-INTERVAL;VALUE=DURATION:PT1H
X-Robots-Tag:noindex
X-PUBLISHED-TTL:PT1H
BEGIN:VTIMEZONE
TZID:UTC
BEGIN:STANDARD
TZOFFSETFROM:+0000
TZOFFSETTO:+0000
TZNAME:UTC
DTSTART:20290101T000000
END:STANDARD
END:VTIMEZONE
BEGIN:VEVENT
DTSTART;TZID=UTC:20300701T183000
DTEND;TZID=UTC:20300701T203000
DTSTAMP:20260419T175518
CREATED:20260124T200720Z
LAST-MODIFIED:20260216T165042Z
UID:10001437-1909161000-1909168200@mtn.vegas
SUMMARY:HOME GROUP | Men's Bible Study
DESCRIPTION:Led by Steve Beason at MTN Church \nSign Up Below For Your Home Group:
URL:https://mtn.vegas/event/home-group-mens-bible-study/2030-07-01/
CATEGORIES:Home Group
ATTACH;FMTTYPE=image/avif:https://mtn.vegas/wp-content/uploads/2026/01/disciples-of-jesus.avif
END:VEVENT
BEGIN:VEVENT
DTSTART;TZID=UTC:20300705T183000
DTEND;TZID=UTC:20300705T203000
DTSTAMP:20260419T175518
CREATED:20260124T201429Z
LAST-MODIFIED:20260330T154917Z
UID:10001720-1909506600-1909513800@mtn.vegas
SUMMARY:HOME GROUP | Young Adults Study
DESCRIPTION:Sign Up Below For Your Home Group:
URL:https://mtn.vegas/event/home-group-young-adults-study/2030-07-05/
LOCATION:MTN Church\, 9501 Hillwood Dr.\, Las Vegas\, NV\, 89134\, United States
CATEGORIES:Home Group
ATTACH;FMTTYPE=image/avif:https://mtn.vegas/wp-content/uploads/2026/01/disciples-of-jesus.avif
END:VEVENT
BEGIN:VEVENT
DTSTART;TZID=UTC:20300708T183000
DTEND;TZID=UTC:20300708T203000
DTSTAMP:20260419T175518
CREATED:20260124T200720Z
LAST-MODIFIED:20260216T165042Z
UID:10001438-1909765800-1909773000@mtn.vegas
SUMMARY:HOME GROUP | Men's Bible Study
DESCRIPTION:Led by Steve Beason at MTN Church \nSign Up Below For Your Home Group:
URL:https://mtn.vegas/event/home-group-mens-bible-study/2030-07-08/
CATEGORIES:Home Group
ATTACH;FMTTYPE=image/avif:https://mtn.vegas/wp-content/uploads/2026/01/disciples-of-jesus.avif
END:VEVENT
BEGIN:VEVENT
DTSTART;TZID=UTC:20300712T183000
DTEND;TZID=UTC:20300712T203000
DTSTAMP:20260419T175518
CREATED:20260124T201429Z
LAST-MODIFIED:20260330T154917Z
UID:10001721-1910111400-1910118600@mtn.vegas
SUMMARY:HOME GROUP | Young Adults Study
DESCRIPTION:Sign Up Below For Your Home Group:
URL:https://mtn.vegas/event/home-group-young-adults-study/2030-07-12/
LOCATION:MTN Church\, 9501 Hillwood Dr.\, Las Vegas\, NV\, 89134\, United States
CATEGORIES:Home Group
ATTACH;FMTTYPE=image/avif:https://mtn.vegas/wp-content/uploads/2026/01/disciples-of-jesus.avif
END:VEVENT
BEGIN:VEVENT
DTSTART;TZID=UTC:20300715T183000
DTEND;TZID=UTC:20300715T203000
DTSTAMP:20260419T175518
CREATED:20260124T200720Z
LAST-MODIFIED:20260216T165042Z
UID:10001439-1910370600-1910377800@mtn.vegas
SUMMARY:HOME GROUP | Men's Bible Study
DESCRIPTION:Led by Steve Beason at MTN Church \nSign Up Below For Your Home Group:
URL:https://mtn.vegas/event/home-group-mens-bible-study/2030-07-15/
CATEGORIES:Home Group
ATTACH;FMTTYPE=image/avif:https://mtn.vegas/wp-content/uploads/2026/01/disciples-of-jesus.avif
END:VEVENT
BEGIN:VEVENT
DTSTART;TZID=UTC:20300719T183000
DTEND;TZID=UTC:20300719T203000
DTSTAMP:20260419T175518
CREATED:20260124T201429Z
LAST-MODIFIED:20260330T154917Z
UID:10001722-1910716200-1910723400@mtn.vegas
SUMMARY:HOME GROUP | Young Adults Study
DESCRIPTION:Sign Up Below For Your Home Group:
URL:https://mtn.vegas/event/home-group-young-adults-study/2030-07-19/
LOCATION:MTN Church\, 9501 Hillwood Dr.\, Las Vegas\, NV\, 89134\, United States
CATEGORIES:Home Group
ATTACH;FMTTYPE=image/avif:https://mtn.vegas/wp-content/uploads/2026/01/disciples-of-jesus.avif
END:VEVENT
BEGIN:VEVENT
DTSTART;TZID=UTC:20300722T183000
DTEND;TZID=UTC:20300722T203000
DTSTAMP:20260419T175518
CREATED:20260124T200720Z
LAST-MODIFIED:20260216T165042Z
UID:10001440-1910975400-1910982600@mtn.vegas
SUMMARY:HOME GROUP | Men's Bible Study
DESCRIPTION:Led by Steve Beason at MTN Church \nSign Up Below For Your Home Group:
URL:https://mtn.vegas/event/home-group-mens-bible-study/2030-07-22/
CATEGORIES:Home Group
ATTACH;FMTTYPE=image/avif:https://mtn.vegas/wp-content/uploads/2026/01/disciples-of-jesus.avif
END:VEVENT
BEGIN:VEVENT
DTSTART;TZID=UTC:20300726T183000
DTEND;TZID=UTC:20300726T203000
DTSTAMP:20260419T175518
CREATED:20260124T201429Z
LAST-MODIFIED:20260330T154917Z
UID:10001723-1911321000-1911328200@mtn.vegas
SUMMARY:HOME GROUP | Young Adults Study
DESCRIPTION:Sign Up Below For Your Home Group:
URL:https://mtn.vegas/event/home-group-young-adults-study/2030-07-26/
LOCATION:MTN Church\, 9501 Hillwood Dr.\, Las Vegas\, NV\, 89134\, United States
CATEGORIES:Home Group
ATTACH;FMTTYPE=image/avif:https://mtn.vegas/wp-content/uploads/2026/01/disciples-of-jesus.avif
END:VEVENT
BEGIN:VEVENT
DTSTART;TZID=UTC:20300729T183000
DTEND;TZID=UTC:20300729T203000
DTSTAMP:20260419T175518
CREATED:20260124T200720Z
LAST-MODIFIED:20260216T165042Z
UID:10001441-1911580200-1911587400@mtn.vegas
SUMMARY:HOME GROUP | Men's Bible Study
DESCRIPTION:Led by Steve Beason at MTN Church \nSign Up Below For Your Home Group:
URL:https://mtn.vegas/event/home-group-mens-bible-study/2030-07-29/
CATEGORIES:Home Group
ATTACH;FMTTYPE=image/avif:https://mtn.vegas/wp-content/uploads/2026/01/disciples-of-jesus.avif
END:VEVENT
END:VCALENDAR